BEGIN:VCALENDAR
VERSION:2.0
PRODID:-//Saalfelden-Leogang.com//NONSGML kigkonsult.se iCalcreator 2.22.1/
 /DE
METHOD:PUBLISH
X-WR-CALNAME;LANGUAGE=de:Saalfelden-Leogang.com
X-WR-CALDESC;LANGUAGE=de:Saalfelden-Leogang.com
X-WR-TIMEZONE;LANGUAGE=de:Europe/Berlin
BEGIN:VEVENT
UID:20260423T105528CEST-3196RehWdV@Saalfelden-Leogang.com
DTSTAMP:20260423T085528Z
DESCRIPTION;LANGUAGE=de:Austria\n\n\n\nBernhard Hammer - guitar \n\nJakob S
 chneidewind - bass \n\nBernhard Breuer - drums \n\nMario Stadler - sound e
 ngineer\n\n\n\nSeit zwanzig Jahren improvisiert die man-machine aus Wien i
 hre faszinierende „rituelle Musik“\, die sie „Analog Techno“ nennen – im k
 lassischen Live-Setup von Gitarre\, Bass und Schlagzeug. „Wir gehen blank 
 auf die Bühne\, improvisieren“\, sagt Bassist Jakob Schneidewind. „Zu dies
 er Spielart haben wir im Laufe der vergangenen Jahre gefunden. Das Zusamme
 nspiel in der Improvisation steht damit im Vordergrund.“ Namentlich inspir
 iert von einem italienischen Motorrad\, haben die Drei ihre immer wieder f
 uturistische Clubmusik schon auf etlichen LPs und EPs und natürlich bei me
 hr als 500 Live-Konzerten vom Berghain bis Roskilde unter die Tanzwütigen 
 gebracht. Und jetzt endlich im Nexus.
DTSTART:20250823T210000Z
DTEND:20250823T223000Z
LOCATION;LANGUAGE=de:Kunsthaus Nexus
SUMMARY;LANGUAGE=de:Elektro Guzzi
END:VEVENT
END:VCALENDAR
